Workbook

Sheet 1. ÖSSZES bevétel (2)
D1: 1. melléklet a ../2026/(IX....) önkormányzati rendelethez
B2: "1. melléklet a 2/2026.(II.20.) önkormányzati rendelethez
B3: Marcali Város Önkormányzata, és irányítása alá tartozó költségvetési szervek 2026.évi bevételi előirányzatai
E4: e Ft
A5: S.sz | B5: M e g n e v e z é s | C5: 2025. évi teljesítés | D5: 2026. évi előirányzat | E5: 2026. évi módosított előirányzat
B6: Bevételek
A7: 1. | B7: Marcali Város Önkormányzata | C7: =SUM(C8:C17) -> 5311459 | D7: =SUM(D8:D17) -> 6522419 | E7: =SUM(E8:E17) -> 6995583
B8: Ebből: Önkormányzatok működési támogatása | C8: 1814161 | D8: ='5. Önkormányzat bevétele (2)'!D13 -> 1946191 | E8: ='5. Önkormányzat bevétele (2)'!E13 -> 1912931
B9: Elvonások és befizetések bevételei | E9: 38609
B10: Működési célú támogatások áht. belülről | C10: 250165 | D10: ='5. Önkormányzat bevétele (2)'!D16 -> 160700 | E10: ='5. Önkormányzat bevétele (2)'!E16 -> 185515
B11: Felhalmozási célú támogatások áht. belülről | C11: 350247 | D11: ='5. Önkormányzat bevétele (2)'!D18 -> 1109958 | E11: ='5. Önkormányzat bevétele (2)'!E18 -> 1109958
B12: Közhatalmi bevételek | C12: 1267375 | D12: ='5. Önkormányzat bevétele (2)'!D25 -> 1268010 | E12: ='5. Önkormányzat bevétele (2)'!E25 -> 1268010
B13: Működési bevételek | C13: 313675 | D13: ='5. Önkormányzat bevétele (2)'!D34 -> 747003 | E13: ='5. Önkormányzat bevétele (2)'!E34 -> 790003
B14: Felhalmozási bevételek | C14: 78988 | D14: ='5. Önkormányzat bevétele (2)'!D36 -> 50000 | E14: ='5. Önkormányzat bevétele (2)'!E36 -> 50000
B15: Működési célú átvett pénzeszközök | C15: 2800 | D15: ='5. Önkormányzat bevétele (2)'!D38 -> 3800 | E15: ='5. Önkormányzat bevétele (2)'!E38 -> 3800
B16: Felhalmozási célú átvett pénzeszközök | C16: 1416 | D16: ='5. Önkormányzat bevétele (2)'!D40 -> 800 | E16: ='5. Önkormányzat bevétele (2)'!E40 -> 800
B17: Finanszírozási bevétel | C17: 1232632 | D17: ='5. Önkormányzat bevétele (2)'!D47 -> 1235957 | E17: ='5. Önkormányzat bevétele (2)'!E47 -> 1635957
A18: 2. | B18: Marcali Közös Önkormányzati Hivatal | C18: 5004 | D18: =D19+D20+D21 -> 20739 | E18: =E19+E20+E21 -> 25450
B19: Ebből: Működési bevétel | C19: 2430 | D19: ='3.Intézményi bevételek (2)'!C12 -> 2500 | E19: ='3.Intézményi bevételek (2)'!D12 -> 2500
B20: Finanszírozási bevétel | C20: 2574 | D20: ='3.Intézményi bevételek (2)'!M22 -> 3239 | E20: ='3.Intézményi bevételek (2)'!N22 -> 3239
B21: Működési célú támogatások áht. belülről | D21: 15000 | E21: 19711
A22: 3. | B22: Marcali Város Önkormányzata irányítása alá tartozó kv.szervek | C22: 169541 | D22: =D23+D24 -> 165413 | E22: =E23+E24 -> 165413
B23: Ebből: Működési bevétel | C23: 158562 | D23: 156935 | E23: 156935
B24: Finanszírozási bevétel | C24: 9065 | D24: 8478 | E24: 8478
B25: Működési célú támogatások áht. belülről | C25: 1274
B26: Felhalmozási célú támogatások áht. belülről | C26: 600
B27: Felhalmozási bevételek | C27: 40
B28: Bevételek összesen: /1+2+3/ | C28: 5486004 | D28: =D22+D18+D7 -> 6708571 | E28: =E22+E18+E7 -> 7186446
B29: Ebből: Önkormányzatok működési támogatása | C29: 1814161 | D29: =D8 -> 1946191 | E29: =E8 -> 1912931
B30: Elvonások és befizetések bevételei | E30: 38609
B31: Működési célú támogatások áht. belülről | C31: 251439 | D31: =D10+D21 -> 175700 | E31: =E10+E21 -> 205226
B32: Felhalmozási célú támogatások áht. belülről | C32: 350847 | D32: =D11 -> 1109958 | E32: =E11 -> 1109958
B33: Közhatalmi bevételek | C33: 1267375 | D33: =D12 -> 1268010 | E33: =E12 -> 1268010
B34: Működési bevételek | C34: 474667 | D34: =D13+D19+D23 -> 906438 | E34: =E13+E19+E23 -> 949438
B35: Felhalmozási bevételek | C35: 79028 | D35: =D14 -> 50000 | E35: =E14 -> 50000
B36: Működési célú átvett pénzeszközök | C36: 2800 | D36: =D15 -> 3800 | E36: =E15 -> 3800
B37: Felhalmozási célú átvett pénzeszközök | C37: 1416 | D37: =D16 -> 800 | E37: =E16 -> 800
B38: Finanszírozási bevétel | C38: 1244271 | D38: =D17+D24+D20 -> 1247674 | E38: =E17+E24+E20 -> 1647674
F39: "

Sheet 2. ÖSSZES kiadások
D1: 2. melléklet a ../2026/(IX....) önkormányzati rendelethez
B2: "2. melléklet a 2/2026.(II.20.) önkormányzati rendelethez
B3: Marcali Város Önkormányzata, és irányítása alá tartozó költségvetési szervek 2026.évi kiadási előirányzatai
E4: e Ft
A5: S.sz | B5: M e g n e v e z é s | C5: 2025. évi teljesítés | D5: 2026. évi előirányzat | E5: 2026. évi módosított előirányzat
B6: Kiadások
A7: 1. | B7: Marcali Város Önkormányzata | C7: 3567635 | D7: =D8+D9+D10+D11+D12+D13+D14+D16+D17+D18+D15 -> 5146352 | E7: =E8+E9+E10+E11+E12+E13+E14+E16+E17+E18+E15+E19 -> 5599981
B8: Ebből: Személyi juttatás | C8: 122701 | D8: ='6. Önkormányzat kiadása (3)'!D6 -> 121334 | E8: ='6. Önkormányzat kiadása (3)'!E6 -> 122334
B9: Munkaadókat terhelő járulék | C9: 11928 | D9: ='6. Önkormányzat kiadása (3)'!D7 -> 18359 | E9: ='6. Önkormányzat kiadása (3)'!E7 -> 18639
B10: Dologi kiadás | C10: 400482 | D10: ='6. Önkormányzat kiadása (3)'!D30 -> 759700 | E10: ='6. Önkormányzat kiadása (3)'!E30 -> 794200
B11: Ellátottak pénzbeli juttatásai | C11: 18342 | D11: ='6. Önkormányzat kiadása (3)'!D41 -> 21700 | E11: ='6. Önkormányzat kiadása (3)'!E41 -> 21700
B12: Egyéb működési célú kiadás | C12: 1851692 | D12: ='6. Önkormányzat kiadása (3)'!D85 -> 1834877 | E12: ='6. Önkormányzat kiadása (3)'!E85 -> 1850226
B13: Egyéb felhalmozási célú kiadás | C13: 8887 | D13: ='6. Önkormányzat kiadása (3)'!D88 -> 3000 | E13: ='6. Önkormányzat kiadása (3)'!E88 -> 8000
B14: Beruházás | C14: 697011 | D14: ='6. Önkormányzat kiadása (3)'!D86 -> 1863521 | E14: ='6. Önkormányzat kiadása (3)'!E86 -> 1863521
B15: Felújítás | C15: 49753 | D15: ='6. Önkormányzat kiadása (3)'!D87 -> 150000 | E15: ='6. Önkormányzat kiadása (3)'!E87 -> 147500
B16: Áh.belüli megelőlegezés visszafizetése | C16: 70171 | D16: ='6. Önkormányzat kiadása (3)'!D91 -> 84563 | E16: ='6. Önkormányzat kiadása (3)'!E91 -> 84563
B17: Likvid hitel törlesztés | D17: 250000 | E17: 250000
B18: Fejlesztési hitel törlesztés | C18: 36668 | D18: ='6. Önkormányzat kiadása (3)'!D94 -> 39298 | E18: ='6. Önkormányzat kiadása (3)'!E94 -> 39298
B19: Pénzeszközök betétként elhelyezése | C19: 300000 | E19: 400000
A20: 2. | B20: Marcali Közös Önkormányzati Hivatal | C20: 569709 | D20: =D21+D22+D23 -> 731330 | E20: =E21+E22+E23+E24+E25 -> 747042
B21: Ebből: Személyi juttatások | C21: 444530 | D21: ='4.Intézményi kiadások (2)'!C12 -> 579748 | E21: ='4.Intézményi kiadások (2)'!D12 -> 590813
B22: Munkaadókat terhelő járulék | C22: 67767 | D22: ='4.Intézményi kiadások (2)'!F12 -> 88082 | E22: ='4.Intézményi kiadások (2)'!H12 -> 90869
B23: Dologi kiadások | C23: 57412 | D23: ='4.Intézményi kiadások (2)'!J12 -> 63500 | E23: ='4.Intézményi kiadások (2)'!K12 -> 64473
B24: Beruházás | E24: 67
B25: Egyéb működési célú kiadás | E25: 820
A26: 3. | B26: Marcali Város Önkormányzata irányítása alá tartozó kv.szervek | C26: 720986 | D26: =D27+D28+D29+D30+D31 -> 830889 | E26: =E27+E28+E29+E30+E31 -> 839423
B27: Ebből: Személyi juttatások | C27: 310469 | D27: ='4.Intézményi kiadások (2)'!C11 -> 366465 | E27: ='4.Intézményi kiadások (2)'!D11 -> 373132
B28: Munkaadókat terhelő járulék | C28: 43496 | D28: ='4.Intézményi kiadások (2)'!F11 -> 54663 | E28: ='4.Intézményi kiadások (2)'!H11 -> 56530
B29: Dologi kiadások | C29: 321375 | D29: ='4.Intézményi kiadások (2)'!J11 -> 373276 | E29: ='4.Intézményi kiadások (2)'!K11 -> 372276
B30: Beruházás | C30: 25196 | D30: ='4.Intézményi kiadások (2)'!C22 -> 16165 | E30: ='4.Intézményi kiadások (2)'!D22 -> 17165
B31: Felújítás | C31: 20450 | D31: ='4.Intézményi kiadások (2)'!F22 -> 20320 | E31: ='4.Intézményi kiadások (2)'!H22 -> 20320
B32: Kiadások összesen: /1+2+3/ | C32: 4858330 | D32: =D26+D20+D7 -> 6708571 | E32: =E26+E20+E7 -> 7186446
B33: Ebből: Személyi juttatások | C33: 877700 | D33: =D21+D27+D8 -> 1067547 | E33: =E21+E27+E8 -> 1086279
B34: Munkaadókat terhelő járulék | C34: 123191 | D34: =D22+D28+D9 -> 161104 | E34: =E22+E28+E9 -> 166038
B35: Dologi kiadások | C35: 779269 | D35: =D23+D29+D10 -> 1196476 | E35: =E23+E29+E10 -> 1230949
B36: Ellátottak pénzbeli juttatásai | C36: 18342 | D36: =D11 -> 21700 | E36: =E11 -> 21700
B37: Egyéb működési célú kiadás | C37: 1851692 | D37: =D12 -> 1834877 | E37: =E12+E25 -> 1851046
B38: Egyéb felhalmozási célú kiadás | C38: 8887 | D38: =D13 -> 3000 | E38: =E13 -> 8000
B39: Beruházás | C39: 722207 | D39: =D14+D30 -> 1879686 | E39: =E14+E30+E24 -> 1880753
B40: Felújítás | C40: 70203 | D40: =D15+D31 -> 170320 | E40: =E15+E31 -> 167820
...

Sheet 3.Intézményi bevételek (2)
L1: 3. melléklet a ../2026/(IX....) önkormányzati rendelethez
A3: 3. melléklet a 2/2026.(II.20.) önkormányzati rendelethez
A4: Marcali Város Önkormányzata irányítása alá tartozó költségvetési szervek 2026. évi bevételi előirányzatai
N5: e Ft
A6: Intézmény | B6: Működési bevételek | E6: Finanszírozási bevétel | J6: Felhalmozási bevétel | L6: Működési célú támogatások államháztartáson belülről
B7: 2025. évi teljesítés | C7: 2026. évi előirányzat | D7: 2026. évi módosított előirányzat | E7: 2025. évi teljesítés | F7: 2026. évi előirányzat | G7: 2026. évi módosított előirányzat | H7: 2026. évi módosított előirányzat | I7: 2025. évi teljesítés | J7: 2026. évi előirányzat | K7: 2026. évi módosított előirányzat | L7: 2025. évi teljesítés | M7: 2026. évi előirányzat | N7: 2026. évi módosított előirányzat
A8: GAMESZSZ | B8: 144837 | C8: 143345 | D8: 143345 | E8: 456207 | F8: 539035 | H8: 541595
A9: Berzsenyi Dániel Városi Könyvtár | B9: 12061 | C9: 10160 | D9: 10160 | E9: 47679 | F9: 61673 | H9: 64233 | I9: 40 | L9: 500
A10: Marcali Múzeum | B10: 1664 | C10: 3430 | D10: 3430 | E10: 56036 | F10: 64768 | H10: 68182 | L10: 774
A11: Összesen: | B11: =SUM(B8:B10) -> 158562 | C11: =SUM(C8:C10) -> 156935 | D11: =SUM(D8:D10) -> 156935 | E11: =SUM(E8:E10) -> 559922 | F11: =SUM(F8:F10) -> 665476 | G11: =SUM(G8:G10) -> 0 | H11: =SUM(H8:H10) -> 674010 | I11: =SUM(I8:I10) -> 40 | ... L11: =SUM(L8:L10) -> 1274 | M11: =M8+M9+M10 -> 0 | N11: =N8+N9+N10 -> 0
A12: Marcali Közös Önkormányzati Hivatal | B12: 2430 | C12: 2500 | D12: 2500 | E12: 567944 | F12: 710591 | H12: 721592 | M12: 15000 | N12: 19711
A13: Mindösszesen | B13: =B12+B11 -> 160992 | C13: =C12+C11 -> 159435 | D13: =D12+D11 -> 159435 | E13: =E12+E11 -> 1127866 | F13: =F12+F11 -> 1376067 | G13: =G12+G11 -> 0 | H13: =H12+H11 -> 1395602 | I13: =I12+I11 -> 40 | ... N13: =N12+N11 -> 19711
A16: Intézmény | B16: Felhalmozási célú támogatások államháztartáson belülről | E16: Működési célú átvett pénzeszköz | I16: Felhalmozási célú átvett pénzeszköz | L16: Maradvány igénybevétele
B17: 2025. évi teljesítés | C17: 2026. évi előirányzat | D17: 2026. évi módosított előirányzat | E17: 2025. évi teljesítés | F17: 2026. évi előirányzat | G17: 2026. évi módosított előirányzat | H17: 2026. évi módosított előirányzat | I17: 2025. évi teljesítés | J17: 2026. évi előirányzat | K17: 2026. évi módosított előirányzat | L17: 2025. évi teljesítés | M17: 2026. évi előirányzat | N17: 2026. évi módosított előirányzat
A18: GAMESZSZ | L18: 3459 | M18: 4235 | N18: 4235
A19: Berzsenyi Dániel Városi Könyvtár | L19: 3269 | M19: 3916 | N19: 3916
A20: Marcali Múzeum | B20: 600 | L20: 2337 | M20: 327 | N20: 327
A21: Összesen: | B21: =B18+B19+B20 -> 600 | C21: =C18+C19+C20 -> 0 | D21: =D18+D19+D20 -> 0 | E21: =E18+E19+E20 -> 0 | F21: =F18+F19+F20 -> 0 | G21: =G18+G19+G20 -> 0 | H21: =H18+H19+H20 -> 0 | I21: =I18+I19+I20 -> 0 | ... N21: =N18+N19+N20 -> 8478
A22: Marcali Közös Önkormányzati Hivatal | L22: 2574 | M22: 3239 | N22: 3239
A23: Mindösszesen | B23: =B21+B22 -> 600 | C23: =C21+C22 -> 0 | D23: =D21+D22 -> 0 | E23: =E21+E22 -> 0 | F23: =F21+F22 -> 0 | G23: =G21+G22 -> 0 | H23: =H21+H22 -> 0 | I23: =I21+I22 -> 0 | ... K23: =K21+K22 -> 0 | L23: =SUM(L21:L22) -> 11639 | M23: =M21+M22 -> 11717 | N23: =N21+N22 -> 11717
A26: Intézmény | B26: Bevételek összesen
B27: 2025. évi teljesítés | C27: 2026. évi előirányzat | D27: 2026. évi módosított előirányzat
A28: GAMESZSZ | B28: =B8+E8+I8+L8+B18+E18+I18+L18 -> 604503 | C28: =C8+F8+J8+M8+C18+F18+J18+M18 -> 686615 | D28: =D8+H8+K8+N8+D18+H18+K18+N18 -> 689175
A29: Berzsenyi Dániel Városi Könyvtár | B29: =B9+E9+I9+L9+B19+E19+I19+L19 -> 63549 | C29: =C9+F9+J9+M9+C19+F19+J19+M19 -> 75749 | D29: =D9+H9+K9+N9+D19+H19+K19+N19 -> 78309
A30: Marcali Múzeum | B30: =B10+E10+I10+L10+B20+E20+I20+L20 -> 61411 | C30: =C10+F10+J10+M10+C20+F20+J20+M20 -> 68525 | D30: =D10+H10+K10+N10+D20+H20+K20+N20 -> 71939
A31: Összesen: | B31: =B11+E11+I11+L11+B21+E21+I21+L21 -> 729463 | C31: =C11+F11+J11+M11+C21+F21+J21+M21 -> 830889 | D31: =D11+H11+K11+N11+D21+H21+K21+N21 -> 839423
A32: Marcali Közös Önkormányzati Hivatal | B32: =B12+E12+I12+L12+B22+E22+I22+L22 -> 572948 | C32: =C12+F12+J12+M12+C22+F22+J22+M22 -> 731330 | D32: =D12+H12+K12+N12+D22+H22+K22+N22 -> 747042
A33: Mindösszesen | B33: =B13+E13+I13+L13+B23+E23+I23+L23 -> 1302411 | C33: =C13+F13+J13+M13+C23+F23+J23+M23 -> 1562219 | D33: =D13+H13+K13+N13+D23+H23+K23+N23 -> 1586465
E34: "

Sheet 4.Intézményi kiadások (2)
L1: 4 melléklet a ../2026/(IX....) önkormányzati rendelethez
A3: "4. melléklet a 2/2026.(II.20.) önkormányzati rendelethez
A4: Marcali Város Önkormányzata irányítása alá tartozó költségvetési szervek 2026. évi kiadási előirányzatai
N5: e Ft
A6: Intézmény | B6: Személyi juttatások | E6: Munkaadókat terhelő járulékok és szociális h.j. adó | I6: Dologi kiadások | L6: Egyéb működési célú kiadások
B7: 2025. évi teljesítés | C7: 2026. évi előirányzat | D7: 2026. évi módosított előirányzat | E7: 2025. évi teljesítés | F7: 2026. évi előirányzat | G7: 2026. évi módosított előirányzat | H7: 2026. évi módosított előirányzat | I7: 2025. évi teljesítés | J7: 2026. évi előirányzat | K7: 2026. évi módosított előirányzat | L7: 2025. évi teljesítés | M7: 2026. évi előirányzat | N7: 2026. évi módosított előirányzat
A8: GAMESZ | B8: 224152 | C8: 264559 | D8: 266559 | E8: 33253 | F8: 41265 | H8: 41825 | I8: 304715 | J8: 352216 | K8: 352216
A9: Berzsenyi Dániel Városi Könyvtár | B9: 42619 | C9: 52259 | D9: 54259 | E9: 4611 | F9: 6840 | G9: 1940344 | H9: 7400 | I9: 7883 | J9: 11150 | K9: 10150
A10: Múzeum | B10: 43698 | C10: 49647 | D10: 52314 | E10: 5632 | F10: 6558 | H10: 7305 | I10: 8777 | J10: 9910 | K10: 9910
A11: Összesen: | B11: =SUM(B8:B10) -> 310469 | C11: =SUM(C8:C10) -> 366465 | D11: =SUM(D8:D10) -> 373132 | E11: =SUM(E8:E10) -> 43496 | F11: =SUM(F8:F10) -> 54663 | G11: =SUM(G8:G10) -> 1940344 | H11: =SUM(H8:H10) -> 56530 | I11: =SUM(I8:I10) -> 321375 | ... K11: =SUM(K8:K10) -> 372276 | M11: =SUM(M8:M10) -> 0 | N11: =SUM(N8:N10) -> 0
A12: Marcali Közös Önkormányzati Hivatal | B12: 444530 | C12: 579748 | D12: 590813 | E12: 67767 | F12: 88082 | H12: 90869 | I12: 57412 | J12: 63500 | K12: 64473 | N12: 820
A13: Mindösszesen | B13: =B12+B11 -> 754999 | C13: =C12+C11 -> 946213 | D13: =D12+D11 -> 963945 | E13: =E12+E11 -> 111263 | F13: =F12+F11 -> 142745 | G13: =G12+G11 -> 1940344 | H13: =H12+H11 -> 147399 | I13: =I12+I11 -> 378787 | ... K13: =K12+K11 -> 436749 | M13: =M12+M11 -> 0 | N13: =N12+N11 -> 820
A17: Intézmény | B17: Beruházások | E17: Felújítások | I17: Egyéb felhalmozási célú kiadások | L17: Kiadások összesen
B18: 2025. évi teljesítés | C18: 2026. évi előirányzat | D18: 2026. évi módosított előirányzat | E18: 2025. évi teljesítés | F18: 2026. évi előirányzat | G18: 2026. évi módosított előirányzat | H18: 2026. évi módosított előirányzat | I18: 2025. évi teljesítés | J18: 2026. évi előirányzat | K18: 2026. évi módosított előirányzat | L18: 2025. évi teljesítés | M18: 2026. évi előirányzat | N18: 2026. évi módosított előirányzat
A19: GAMESZ | B19: 17698 | C19: 8255 | D19: 8255 | E19: 20450 | F19: 20320 | H19: 20320 | L19: =B8+E8+I8+L8+B19+E19+I19 -> 600268 | M19: =C8+F8+J8+M8+C19+F19+J19 -> 686615 | N19: =D8+H8+K8+N8+D19+H19+K19 -> 689175
A20: Berzsenyi Dániel Városi Könyvtár | B20: 4520 | C20: 5500 | D20: 6500 | L20: =B9+E9+I9+L9+B20+E20+I20 -> 59633 | M20: =C9+F9+J9+M9+C20+F20+J20 -> 75749 | N20: =D9+H9+K9+N9+D20+H20+K20 -> 78309
A21: Múzeum | B21: 2978 | C21: 2410 | D21: 2410 | L21: =B10+E10+I10+L10+B21+E21+I21 -> 61085 | M21: =C10+F10+J10+M10+C21+F21+J21 -> 68525 | N21: =D10+H10+K10+N10+D21+H21+K21 -> 71939
A22: Összesen: | B22: =SUM(B19:B21) -> 25196 | C22: =SUM(C19:C21) -> 16165 | D22: =SUM(D19:D21) -> 17165 | E22: =SUM(E19:E21) -> 20450 | F22: =SUM(F19:F21) -> 20320 | G22: =SUM(G19:G21) -> 0 | H22: =SUM(H19:H21) -> 20320 | J22: =SUM(J19:J21) -> 0 | K22: =SUM(K19:K21) -> 0 | L22: =B11+E11+I11+L11+B22+E22+I22 -> 720986 | M22: =C11+F11+J11+M11+C22+F22+J22 -> 830889 | N22: =D11+H11+K11+N11+D22+H22+K22 -> 839423
A23: Marcali Közös Önkormányzati Hivatal | D23: 67 | L23: =B12+E12+I12+L12+B23+E23+I23 -> 569709 | M23: =C12+F12+J12+M12+C23+F23+J23 -> 731330 | N23: =D12+H12+K12+N12+D23+H23+K23 -> 747042
A24: Mindösszesen | B24: =SUM(B22:B23) -> 25196 | C24: =C22+C23 -> 16165 | D24: =D22+D23 -> 17232 | E24: =SUM(E22:E23) -> 20450 | F24: =F22+F23 -> 20320 | G24: =G22+G23 -> 0 | H24: =H22+H23 -> 20320 | J24: =J22+J23 -> 0 | K24: =K22+K23 -> 0 | L24: =B13+E13+I13+L13+B24+E24+I24 -> 1290695 | M24: =C13+F13+J13+M13+C24+F24+J24 -> 1562219 | N24: =D13+H13+K13+N13+D24+H24+K24 -> 1586465
O25: "

Sheet 5. Önkormányzat bevétele (2)
D1: 5. melléklet a ../2026/(IX....) önkormányzati rendelethez
B2: "5. melléklet a 2/2026.(II.20.) önkormányzati rendelethez
A3: Marcali Város Önkormányzatának 2026. évi bevételi előirányzatai
E4: e Ft
A5: S.sz. | B5: Megnevezés | C5: 2025. évi teljesítés | D5: 2026. évi előirányzat | E5: 2026. évi módosított előirányzat
A6: 1 | B6: Helyi önkormányzatok működésének általános támogatása | C6: 382376 | D6: 440119 | E6: 453910
A7: 2 | B7: Települési önkormányzatok egyes köznevelési feladatainak támogatása | C7: 557037 | D7: 480035 | E7: 493068
A8: 3 | B8: Települési önkormányzatok szociális gyermekjóléti feladatainak támogatása | C8: 565055 | D8: 554566 | E8: 635437
A9: 4 | B9: Települési önkormányzatok gyermekétkeztetési feladatainak támogatása | C9: 227426 | D9: 232093 | E9: 232083
A10: 5 | B10: Települési önkormányzatok kultúrális feladatainak támogatása | C10: 47885 | D10: 24569 | E10: 70627
A11: 6 | B11: Helyi önkormányzatok kiegészítő támogatásai | C11: 24223 | D11: 214809 | E11: 27424
A12: 7 | B12: Előző évi elszámolások | C12: 10159 | E12: 382
A13: 8 | B13: Önkormányzatok működési támogatásai (1+…7) | C13: =SUM(C6:C12) -> 1814161 | D13: =SUM(D6:D11) -> 1946191 | E13: =SUM(E6:E12) -> 1912931
A14: 9 | B14: Elvonások és befizetések bevételei | E14: 38609
A15: 10 | B15: Egyéb működési célú támogatások bevételei államháztartáson belülről | C15: 250165 | D15: 160700 | E15: 185515
A16: 11 | B16: Működési célú támogatások államháztartáson belülről (10) | C16: =SUM(C15) -> 250165 | D16: =SUM(D15) -> 160700 | E16: =SUM(E15) -> 185515
A17: 12 | B17: Felhalmozási célú támogatás | C17: 350247 | D17: 1109958 | E17: 1109958
A18: 13 | B18: Felhalmozási célú támogatások államháztartáson belülről (12) | C18: =SUM(C17) -> 350247 | D18: =SUM(D17) -> 1109958 | E18: =SUM(E17) -> 1109958
A19: 14 | B19: Magánszemélyek jövedelem adója | C19: 3 | D19: 10 | E19: 10
A20: 15 | B20: Vagyoni típusú adók | C20: 221571 | D20: 212000 | E20: 212000
A21: 16 | B21: Értékesítési és forgalmi adók | C21: 1038023 | D21: 1050000 | E21: 1050000
A22: 17 | B22: Egyéb áruhasználati és szolgáltatási adók | C22: 472 | D22: 500 | E22: 500
A23: 18 | B23: Termékek és szolgáltatások adói (16+17) | C23: =SUM(C21:C22) -> 1038495 | D23: =SUM(D21:D22) -> 1050500 | E23: =SUM(E21:E22) -> 1050500
A24: 19 | B24: Egyéb közhatalmi bevételek | C24: 7306 | D24: 5500 | E24: 5500
A25: 20 | B25: Közhatalmi bevételek (14+15+18+19) | C25: =C23+C24+C20+C19 -> 1267375 | D25: =D23+D24+D20+D19 -> 1268010 | E25: =E23+E24+E20+E19 -> 1268010
A26: 21 | B26: Készletértékesítés ellenértéke | D26: 100 | E26: 100
A27: 22 | B27: Szolgáltatások ellenértéke | C27: 76210 | D27: 80000 | E27: 80000
A28: 23 | B28: Közvetített szolgáltatások ellenértéke | C28: 18159 | D28: 20000 | E28: 20000
A29: 24 | B29: Tulajdonosi bevételek | C29: 149091 | D29: 150000 | E29: 150000
A30: 25 | B30: Kiszámlázott általános forgalmi adó | C30: 41274 | D30: 61903 | E30: 61903
A31: 26 | B31: Általános forgalmi adó visszatérítése | D31: 420000 | E31: 420000
A32: 27 | B32: Kamatbevételek | C32: 24718 | D32: 10000 | E32: 18000
A33: 28 | B33: Egyéb működési bevételek | C33: 4223 | D33: 5000 | E33: 40000
A34: 29 | B34: Működési bevételek (21+..28) | C34: =SUM(C26:C33) -> 313675 | D34: =SUM(D26:D33) -> 747003 | E34: =SUM(E26:E33) -> 790003
A35: 30 | B35: Ingatlanok értékesítése | C35: 78988 | D35: 50000 | E35: 50000
A36: 31 | B36: Felhalmozási bevételek (30) | C36: 78988 | D36: =D35 -> 50000 | E36: =E35 -> 50000
A37: 32 | B37: Működési célú visszatérítendő támogatások, kölcsönök visszatérülése államháztartáson kívülről | C37: 2800 | D37: 3800 | E37: 3800
A38: 33 | B38: Működési célú átvett pénzeszközök (32) | C38: 2800 | D38: =SUM(D37:D37) -> 3800 | E38: =SUM(E37:E37) -> 3800
A39: 34 | B39: Felhalmozási célú visszatérítendő támogatások, kölcsönök visszatérülése államháztartáson kívülről | C39: 1416 | D39: 800 | E39: 800
A40: 35 | B40: Felhalmozási célú átvett pénzeszközök ( 34 ) | C40: 1416 | D40: =SUM(D39:D39) -> 800 | E40: =SUM(E39:E39) -> 800
...

Sheet 6. Önkormányzat kiadása (3)
D1: 6. melléklet a ../2026/(IX....) önkormányzati rendelethez
A2: "6. melléklet a 2/2026.(II.20.) önkormányzati rendelethez
A3: Marcali Város Önkormányzatának 2026. évi kiadási előirányzatai
E4: e Ft
A5: S.sz. | B5: Megnevezés | C5: 2025. évi teljesítés | D5: 2026. évi előirányzat | E5: 2026. évi módosított előirányzat
A6: 1 | B6: Személyi juttatások | C6: 122701 | D6: 121334 | E6: 122334
A7: 2 | B7: Munkaadókat terhelő járulékok és szociális hozzájárulási adó | C7: 11928 | D7: 18359 | E7: 18639
A8: 3 | B8: Szakmai anyagok beszerzése | C8: 287 | D8: 500 | E8: 500
A9: 4 | B9: Üzemeltetési anyagok beszerzése | C9: 4006 | D9: 5000 | E9: 5000
A10: 5 | B10: Készletbeszerzés (3+4) | C10: =C8+C9 -> 4293 | D10: =D8+D9 -> 5500 | E10: =E8+E9 -> 5500
A11: 6 | B11: Informatikai szolgáltatások igénybevétele | C11: 7525 | D11: 8500 | E11: 8500
A12: 7 | B12: Egyéb kommunikációs szolgáltatás | C12: 318 | D12: 500 | E12: 500
A13: 8 | B13: Kommunikációs szolgáltatások ( 6+7 ) | C13: =C11+C12 -> 7843 | D13: =D11+D12 -> 9000 | E13: =E11+E12 -> 9000
A14: 9 | B14: Közüzemi díjak | C14: 43692 | D14: 45000 | E14: 72165
A15: 10 | B15: Vásárolt élelmezés | C15: 126 | D15: 500 | E15: 500
A16: 11 | B16: Bérleti és lízing díjak | C16: 41695 | D16: 45000 | E16: 45000
A17: 12 | B17: Karbantartási, kisjavítási szolgáltatások | C17: 6152 | D17: 7000 | E17: 7000
A18: 13 | B18: Közvetített szolgáltatások | C18: 16142 | D18: 20000 | E18: 20000
A19: 14 | B19: Szakmai tev. segítő szolg. | C19: 62961 | D19: 70000 | E19: 70000
A20: 15 | B20: Egyéb szolgáltatások | C20: 59733 | D20: 65000 | E20: 65000
A21: 16 | B21: Szolgáltatási kiadások ( 9+…+ 15 ) | C21: =C14+C16+C17+C18+C19+C20+C15 -> 230501 | D21: =D14+D16+D17+D18+D19+D20+D15 -> 252500 | E21: =E14+E16+E17+E18+E19+E20+E15 -> 279665
A22: 17 | B22: Kiküldetések kiadásai | C22: 79 | D22: 200 | E22: 200
A23: 18 | B23: Reklám- és propagandakiadások | C23: 2831 | D23: 7000 | E23: 7000
A24: 19 | B24: Kiküldetések, reklám- és propagandakiadások ( 17+18 ) | C24: =C22+C23 -> 2910 | D24: =D22+D23 -> 7200 | E24: =E22+E23 -> 7200
A25: 20 | B25: Működési célú előzetesen felszámított általános forgalmi adó | C25: 22623 | D25: 34500 | E25: 41830
A26: 21 | B26: Fizetendő általános forgalmi adó | C26: 107435 | D26: 420000 | E26: 420000
A27: 22 | B27: Kamatkiadások, egyéb pü.műveletek | C27: 20689 | D27: 25000 | E27: 25005
A28: 23 | B28: Egyéb dologi kiadások | C28: 4188 | D28: 6000 | E28: 6000
A29: 24 | B29: Különféle befizetések és egyéb dologi kiadások (20+.. +23) | C29: =C25+C26+C27+C28 -> 154935 | D29: =D25+D26+D27+D28 -> 485500 | E29: =E25+E26+E27+E28 -> 492835
A30: 25 | B30: Dologi kiadások összesen ( 5+8+16+19+24 ) | C30: =C29+C24+C21+C13+C10 -> 400482 | D30: =D29+D24+D21+D13+D10 -> 759700 | E30: =E29+E24+E21+E13+E10 -> 794200
A31: 26 | B31: Lakbértámogatás | D31: 200 | E31: 200
A32: 27 | B32: Köztemetés | C32: 3659 | D32: 4000 | E32: 4000
A33: 28 | B33: Települési támogatás / rendszeres/
A34: 29 | B34: TLT lakhatási kiadások viseléséhez | C34: 3041 | D34: 3000 | E34: 3000
A35: 30 | B35: TTÁ A 18 életévét betöltött tartósan beteg hozzátartozójának az ápolását, gondozását végző személy részére | C35: 4145 | D35: 4500 | E35: 4500
A36: 31 | B36: TGYT gyógyszerkiadások viseléséhez nyújtott támogatás | C36: 2483 | D36: 3700 | E36: 3700
A37: 32 | B37: Települési támogatás / rendkívüli/
A38: 33 | B38: Települési támogatás természetbeni ellátás | C38: 176 | D38: 1700 | E38: 1700
A39: 34 | B39: Települési támogatás pénzbeli ellátás | C39: 4583 | D39: 4000 | E39: 4000
A40: 35 | B40: Rendkívüli települési támogatás temetési költségek viseléséhez | C40: 255 | D40: 600 | E40: 600
...

Sheet 11.mell működés mérleg
F1: 7. melléklet a ../2026/(IX....) önkormányzati rendelethez
A2: "11. melléklet a 2/2026.(II.20.) önkormányzati rendelethez
A3: Marcali Város Önkormányzata, és irányítása alá tartozó költségvetési szervek 2026. évi működési célú bevételei és kiadásai
F4: e Ft
A5: Bevételek | D5: Kiadások
A6: Megnevezés | B6: 2026. évi előirányzat | C6: 2026. évi módosított előirányzat | D6: Megnevezés | E6: 2026. évi előirányzat | F6: 2026. évi módosított előirányzat
A7: Önkormányzatok működési támogatása | B7: ='1. ÖSSZES bevétel (2)'!D8 -> 1946191 | C7: 1951540 | D7: Személyi juttatások | E7: ='2. ÖSSZES kiadások'!D33 -> 1067547 | F7: ='2. ÖSSZES kiadások'!E33 -> 1086279
A8: Működési célú támogatások államháztartáson belülről | B8: ='1. ÖSSZES bevétel (2)'!D31 -> 175700 | C8: ='1. ÖSSZES bevétel (2)'!E31 -> 205226 | D8: Munkaadókat terhelő járulék | E8: ='2. ÖSSZES kiadások'!D34 -> 161104 | F8: ='2. ÖSSZES kiadások'!E34 -> 166038
A9: Közhatalmi bevételek | B9: ='1. ÖSSZES bevétel (2)'!D33 -> 1268010 | C9: ='1. ÖSSZES bevétel (2)'!E33 -> 1268010 | D9: Dologi kiadások | E9: ='2. ÖSSZES kiadások'!D35 -> 1196476 | F9: ='2. ÖSSZES kiadások'!E35 -> 1230949
A10: Működési bevételek | B10: ='1. ÖSSZES bevétel (2)'!D34 -> 906438 | C10: ='1. ÖSSZES bevétel (2)'!E34 -> 949438 | D10: Ellátottak pénzbeli juttatásai | E10: ='2. ÖSSZES kiadások'!D36 -> 21700 | F10: ='2. ÖSSZES kiadások'!E36 -> 21700
A11: Működési célú átvett pénzeszközök | B11: ='1. ÖSSZES bevétel (2)'!D36 -> 3800 | C11: ='1. ÖSSZES bevétel (2)'!E36 -> 3800 | D11: Egyéb működési célú kiadás | E11: ='2. ÖSSZES kiadások'!D37 -> 1834877 | F11: ='2. ÖSSZES kiadások'!E37 -> 1851046
A12: Elözö évi költségvetési maradvány igénybevétele | B12: 94637 | C12: 94637 | D12: Megelőlegezés visszafizetése | E12: ='6. Önkormányzat kiadása (3)'!D91 -> 84563 | F12: ='6. Önkormányzat kiadása (3)'!E91 -> 84563
A13: Likvid hitel felvétel | B13: 250000 | C13: 250000 | D13: Likvid hitel törlesztés | E13: 250000 | F13: 250000
A14: Áh. Belüli megelőlegezés | B14: 20000 | C14: 20000
A21: ÖSSZESEN: | B21: =SUM(B7:B20) -> 4664776 | C21: =SUM(C7:C20) -> 4742651 | D21: ÖSSZESEN: | E21: =SUM(E7:E20) -> 4616267 | F21: =SUM(F7:F20) -> 4690575
A22: Hiány: | B22: =IF(((E21-B21)>0),E21-B21,"----") -> ---- | C22: =IF(((F21-C21)>0),F21-C21,"----") -> ---- | D22: Többlet: | E22: =IF(((B21-E21)>0),B21-E21,"----") -> 48509 | F22: =IF(((C21-F21)>0),C21-F21,"----") -> 52076
G23: "

Sheet 12.mell felhalm mérleg
E1: 8. melléklet a ../2026/(IX....) önkormányzati rendelethez
A2: "12.melléklet a 2/2026.(II.20.) önkormányzati rendelethez
A3: Marcali Város Önkormányzata, és irányítása alá tartozó költségvetési szervek 2026. évi felhalmozási célú bevételei és kiadásai
F4: e Ft
A5: Bevételek | D5: Kiadások
A6: Megnevezés | B6: 2026. évi előirányzat | C6: 2026. évi módosított előirányzat | D6: Megnevezés | E6: 2026. évi előirányzat | F6: 2026. évi módosított előirányzat
A7: Felhalmozási célú támogatások államháztartáson belülről | B7: ='1. ÖSSZES bevétel (2)'!D32 -> 1109958 | C7: ='1. ÖSSZES bevétel (2)'!E32 -> 1109958 | D7: Egyéb felhalmozási célú kiadás | E7: ='2. ÖSSZES kiadások'!D38 -> 3000 | F7: ='2. ÖSSZES kiadások'!E38 -> 8000
A8: Felhalmozási bevételek | B8: ='1. ÖSSZES bevétel (2)'!D35 -> 50000 | C8: ='1. ÖSSZES bevétel (2)'!E35 -> 50000 | D8: Beruházás | E8: ='2. ÖSSZES kiadások'!D39 -> 1879686 | F8: ='2. ÖSSZES kiadások'!E39 -> 1880753
A9: Felhalmozási célú átvett pénzeszközök | B9: ='1. ÖSSZES bevétel (2)'!D37 -> 800 | C9: ='1. ÖSSZES bevétel (2)'!E37 -> 800 | D9: Felújítás | E9: ='2. ÖSSZES kiadások'!D40 -> 170320 | F9: ='2. ÖSSZES kiadások'!E40 -> 167820
A10: Elözö évi költségvetési maradvány igénybevétele | B10: 533037 | C10: 533037 | D10: Fejlesztési hitel törlesztés | E10: 39298 | F10: 39298
A11: Lekötött betét | B11: 200000 | C11: 600000 | D11: Pénzeszközök betétként elhelyezése | F11: 400000
A12: Fejlesztési hitel | B12: 150000 | C12: 150000
A21: ÖSSZESEN: | B21: =SUM(B7:B20) -> 2043795 | C21: =SUM(C7:C20) -> 2443795 | D21: ÖSSZESEN: | E21: =SUM(E7:E20) -> 2092304 | F21: =SUM(F7:F20) -> 2495871
A22: Hiány: | B22: =IF(((E21-B21)>0),E21-B21,"----") -> 48509 | C22: =IF(((F21-C21)>0),F21-C21,"----") -> 52076 | D22: Többlet: | E22: =IF(((B21-E21)>0),B21-E21,"----") -> ---- | F22: =IF(((C21-F21)>0),C21-F21,"----") -> ----
G23: "

Sheet 13. összevont kv-i mérleg
G1: 9. melléklet a ../2026/(IX....) önkormányzati rendelethez
C2: "13. melléklet a 2/2026.(II.20.) önkormányzati rendelethez
C3: Marcali Város Önkormányzata, és irányítása alá tartozó költségvetési szervek 2026. évi összevont költségvetési mérlege
I4: e Ft
C5: Megnevezés | G5: Működési célú | H5: Felhalmozási célú | I5: Összesen
C6: Tárgyévi bevételek összesen | G6: 4378014 | H6: 1160758 | I6: =G6+H6 -> 5538772
C7: Tárgyévi kiadások összesen | G7: 4356012 | H7: 2056573 | I7: =G7+H7 -> 6412585
C8: Költségvetési hiány (-)/többlet (+) | G8: =G6-G7 -> 22002 | H8: =H6-H7 -> -895815 | I8: =G8+H8 -> -873813
C9: Előző évek pénzmaradványának igénybevétele | G9: ='11.mell működés mérleg'!B12 -> 94637 | H9: ='12.mell felhalm mérleg'!B10 -> 533037 | I9: =G9+H9 -> 627674
C10: Finanszírozási célú pénzügyi műveletek bevételei | G10: 270000 | H10: 750000 | I10: =G10+H10 -> 1020000
C11: Finanszírozási célú pénzügyi műveletek kiadásai | G11: 334563 | H11: 439298 | I11: =G11+H11 -> 773861
C12: Finanszírozási célú pénzügyi műveletek egyenlege | G12: =G10-G11 -> -64563 | H12: =H10-H11 -> 310702 | I12: =G12+H12 -> 246139
C13: Kiadások mindösszesen | G13: =G7+G11 -> 4690575 | H13: =H7+H11 -> 2495871 | I13: =G13+H13 -> 7186446
C14: Bevételek mindösszesen | G14: =G6+G9+G10 -> 4742651 | H14: =H6+H9+H10 -> 2443795 | I14: =G14+H14 -> 7186446
J15: "

Sheet 14. melléklet ált. és cé (2)
D1: 10. melléklet a ../2026/(IX....) önkormányzati rendelethez
B2: "14. melléklet a 2/2026.(II.20.) önkormányzati rendelethez
B3: Tartalékok
B4: Marcali Város Önkormányzata 2026. évi általános és céltartalék előirányzata
E5: e Ft
A6: Sorszám | B6: Megnevezés | C6: Célja | D6: Összege
A8: 1. | B8: Általános tartalék | C8: Év során előre nem látható események fedezetére | E8: 500
A9: 2. | B9: Céltartalék | C9: IPA többletbevétel miatti fizetési kötelezettség fedezetére | E9: 4500
E10: 10000
B11: Összesen (1+2): | D11: =E8+E9+E10 -> 15000
F12: "

Sheet 16. sz.melléklet ütemterv (3)
M1: 11. melléklet a ../2026/(IX....) önkormányzati rendelethez
A2: "16.melléklet a 2/2026.(II.20.) önkormányzati rendelethez
A3: Marcali Város Önkormányzata, és irányítása alá tartozó költségvetési szervek előirányzati ütemterve 2026.évre
O4: e Ft
A5: Sor-szám | B5: Megnevezés | C5: Január | D5: Február | E5: Március | F5: Április | G5: Május | H5: Június | I5: Július | J5: Augusztus | K5: Szeptember | L5: Október | M5: November | N5: December | O5: Összesen:
A6: 1. | B6: Bevételi előirányzatok | O6: =SUM(C6:N6) -> 0
A7: 2. | B7: Önkormányzatok működési támogatása | C7: 82000 | D7: 165000 | E7: 169925 | F7: 165000 | G7: 165424 | H7: 165000 | I7: 165000 | J7: 165000 | K7: 165000 | L7: 165000 | M7: 165000 | N7: 214191 | O7: =C7+D7+E7+F7+G7+H7+I7+J7+K7+L7+M7+N7 -> 1951540
A8: 3. | B8: Működési célú támogatások államháztartáson belülről | C8: 15000 | D8: 11200 | E8: 35815 | F8: 16000 | G8: 15000 | H8: 16000 | I8: 18000 | J8: 15000 | K8: 18511 | L8: 15000 | M8: 15000 | N8: 14700 | O8: =SUM(C8:N8) -> 205226
A9: 4. | B9: Felhalmozási célú támogatások államháztartáson belülről | D9: 300000 | E9: 396958 | F9: 75160 | H9: 6300 | J9: 43000 | L9: 250000 | N9: 38540 | O9: =SUM(C9:N9) -> 1109958
A10: 5. | B10: Közhatalmi bevételek | C10: 100 | D10: 100 | E10: 343190 | F10: 150 | G10: 474240 | H10: 100 | I10: 100 | J10: 100 | K10: 226155 | L10: 19895 | M10: 2880 | N10: 201000 | O10: =SUM(C10:N10) -> 1268010
A11: 6. | B11: Működési bevételek | C11: 90000 | D11: 82000 | E11: 76000 | F11: 89898 | G11: 76750 | H11: 81839 | I11: 82000 | J11: 62483 | K11: 82000 | L11: 72000 | M11: 82000 | N11: 72468 | O11: =SUM(C11:N11) -> 949438
A12: 7. | B12: Felhalmozási bevételek | H12: 30000 | K12: 20000 | O12: =SUM(C12:N12) -> 50000
A13: 8. | B13: Működési célú átvett pénzeszközök | D13: 100 | E13: 500 | F13: 500 | G13: 400 | H13: 500 | I13: 100 | J13: 200 | K13: 500 | L13: 100 | M13: 400 | N13: 500 | O13: =SUM(C13:N13) -> 3800
A14: 9. | B14: Felhalmozási célú átvett pénzeszközök | F14: 300 | H14: 200 | J14: 200 | L14: 100 | O14: =SUM(C14:N14) -> 800
A15: 10. | B15: Finanszírozási bevétel | C15: 627764 | D15: 200000 | E15: 1700 | F15: 100000 | G15: 1700 | H15: 2000 | I15: 1600 | J15: 1700 | K15: 150000 | L15: 1800 | M15: 1800 | N15: 557610 | O15: =SUM(C15:N15) -> 1647674
A16: 11. | B16: Bevételi előir. összesen: | C16: =SUM(C7:C15) -> 814864 | D16: =SUM(D7:D15) -> 758400 | E16: =SUM(E7:E15) -> 1024088 | F16: =SUM(F7:F15) -> 447008 | G16: =SUM(G7:G15) -> 733514 | H16: =SUM(H7:H15) -> 301939 | I16: =SUM(I7:I15) -> 266800 | J16: =SUM(J7:J15) -> 287683 | ... N16: =SUM(N7:N15) -> 1099009 | O16: =SUM(C16:N16) -> 7186446
A17: 12. | B17: Kiadási előirányzatok
A18: 13. | B18: Személyi juttatások | C18: 88750 | D18: 88500 | E18: 104762 | F18: 88500 | G18: 88500 | H18: 88500 | I18: 88500 | J18: 88500 | K18: 88500 | L18: 88500 | M18: 90970 | N18: 93797 | O18: =SUM(C18:N18) -> 1086279
A19: 14. | B19: Munkaadókat terhelő járulék | C19: 13000 | D19: 13000 | E19: 17553 | F19: 13000 | G19: 13000 | H19: 13000 | I19: 13000 | J19: 13000 | K19: 13000 | L19: 13000 | M19: 13381 | N19: 18104 | O19: =SUM(C19:N19) -> 166038
A20: 15. | B20: Dologi kiadások | C20: 103310 | D20: 103623 | E20: 101585 | F20: 103310 | G20: 103310 | H20: 83310 | I20: 101310 | J20: 80939 | K20: 103310 | L20: 104351 | M20: 137470 | N20: 105121 | O20: =SUM(C20:N20) -> 1230949
A21: 16. | B21: Ellátottak pénzbeli juttatásai | C21: 2000 | D21: 2000 | E21: 1500 | F21: 2000 | G21: 2000 | H21: 1500 | I21: 2000 | J21: 2000 | K21: 2000 | L21: 1500 | M21: 1500 | N21: 1700 | O21: =SUM(C21:N21) -> 21700
A22: 17. | B22: Egyéb működési célú kiadás | C22: 101000 | D22: 101000 | E22: 105075 | F22: 101820 | G22: 205000 | H22: 115807 | I22: 101000 | J22: 205000 | K22: 178721 | L22: 178000 | M22: 178000 | N22: 280623 | O22: =SUM(C22:N22) -> 1851046
A23: 18. | B23: Egyéb felhalmozási célú kiadás | E23: 2750 | F23: 250 | G23: 250 | H23: 2750 | I23: 250 | J23: 250 | K23: 500 | L23: 500 | M23: 250 | N23: 250 | O23: =SUM(C23:N23) -> 8000
A24: 19. | B24: Beruházás, felújítás | C24: 50067 | D24: 100000 | E24: 150000 | F24: 120000 | G24: 50000 | H24: 120301 | I24: 276979 | J24: 250000 | K24: 100000 | L24: 280138 | M24: 342819 | N24: 208269 | O24: =SUM(C24:N24) -> 2048573
A25: 20. | B25: Finanszírozási kiadás | C25: 56006 | D25: 1700 | E25: 20000 | F25: 2000 | G25: 1700 | H25: 13187 | I25: 1600 | J25: 1700 | K25: 20334 | L25: 3500 | M25: 2134 | N25: 650000 | O25: =SUM(C25:N25) -> 773861
A26: 21. | B26: Kiadási előir. összesen: | C26: =SUM(C18:C25) -> 414133 | D26: =SUM(D18:D25) -> 409823 | E26: =SUM(E18:E25) -> 503225 | F26: =SUM(F18:F25) -> 430880 | G26: =SUM(G18:G25) -> 463760 | H26: =SUM(H18:H25) -> 438355 | I26: =SUM(I18:I25) -> 584639 | J26: =SUM(J18:J25) -> 641389 | ... N26: =SUM(N18:N25) -> 1357864 | O26: =SUM(C26:N26) -> 7186446
P27: "

Sheet Munka2
